BEGIN:VCALENDAR
VERSION:2.0
PRODID:-//wp-events-plugin.com//7.2.2.1//EN
BEGIN:VEVENT
UID:137@ville-merville.fr
DTSTART:20260613T143000Z
DTEND:20260613T170000Z
DTSTAMP:20260305T144434Z
URL:https://www.ville-merville.fr/events/la-dictee-du-club-cinema-de-mervi
 lle/
SUMMARY:La dictée du Club Cinéma de Merville
DESCRIPTION:
ATTACH;FMTTYPE=image/jpeg:https://www.ville-merville.fr/wp-content/uploads
 /2026/03/shutterstock_2456043933.jpg
CATEGORIES:Associations,Culture
LOCATION:Salle des fêtes Francis Bouquet\, 15 rue Marcel Lefebvre\, Mervil
 le\, 59660\, France
X-APPLE-STRUCTURED-LOCATION;VALUE=URI;X-ADDRESS=15 rue Marcel Lefebvre\, Me
 rville\, 59660\, France;X-APPLE-RADIUS=100;X-TITLE=Salle des fêtes Franci
 s Bouquet:geo:0,0
END:VEVENT
END:VCALENDAR